BEGIN:VCALENDAR
VERSION:2.0
PRODID:-//The Rockland County Ancient Order of Hibernians - ECPv6.15.13.1//NONSGML v1.0//EN
CALSCALE:GREGORIAN
METHOD:PUBLISH
X-ORIGINAL-URL:https://www.rocklandcountyaoh.com
X-WR-CALDESC:Events for The Rockland County Ancient Order of Hibernians
REFRESH-INTERVAL;VALUE=DURATION:PT1H
X-Robots-Tag:noindex
X-PUBLISHED-TTL:PT1H
BEGIN:VTIMEZONE
TZID:America/New_York
BEGIN:DAYLIGHT
TZOFFSETFROM:-0500
TZOFFSETTO:-0400
TZNAME:EDT
DTSTART:20120311T070000
END:DAYLIGHT
BEGIN:STANDARD
TZOFFSETFROM:-0400
TZOFFSETTO:-0500
TZNAME:EST
DTSTART:20121104T060000
END:STANDARD
BEGIN:DAYLIGHT
TZOFFSETFROM:-0500
TZOFFSETTO:-0400
TZNAME:EDT
DTSTART:20130310T070000
END:DAYLIGHT
BEGIN:STANDARD
TZOFFSETFROM:-0400
TZOFFSETTO:-0500
TZNAME:EST
DTSTART:20131103T060000
END:STANDARD
BEGIN:DAYLIGHT
TZOFFSETFROM:-0500
TZOFFSETTO:-0400
TZNAME:EDT
DTSTART:20140309T070000
END:DAYLIGHT
BEGIN:STANDARD
TZOFFSETFROM:-0400
TZOFFSETTO:-0500
TZNAME:EST
DTSTART:20141102T060000
END:STANDARD
BEGIN:DAYLIGHT
TZOFFSETFROM:-0500
TZOFFSETTO:-0400
TZNAME:EDT
DTSTART:20150308T070000
END:DAYLIGHT
BEGIN:STANDARD
TZOFFSETFROM:-0400
TZOFFSETTO:-0500
TZNAME:EST
DTSTART:20151101T060000
END:STANDARD
BEGIN:DAYLIGHT
TZOFFSETFROM:-0500
TZOFFSETTO:-0400
TZNAME:EDT
DTSTART:20160313T070000
END:DAYLIGHT
BEGIN:STANDARD
TZOFFSETFROM:-0400
TZOFFSETTO:-0500
TZNAME:EST
DTSTART:20161106T060000
END:STANDARD
BEGIN:DAYLIGHT
TZOFFSETFROM:-0500
TZOFFSETTO:-0400
TZNAME:EDT
DTSTART:20170312T070000
END:DAYLIGHT
BEGIN:STANDARD
TZOFFSETFROM:-0400
TZOFFSETTO:-0500
TZNAME:EST
DTSTART:20171105T060000
END:STANDARD
BEGIN:DAYLIGHT
TZOFFSETFROM:-0500
TZOFFSETTO:-0400
TZNAME:EDT
DTSTART:20180311T070000
END:DAYLIGHT
BEGIN:STANDARD
TZOFFSETFROM:-0400
TZOFFSETTO:-0500
TZNAME:EST
DTSTART:20181104T060000
END:STANDARD
BEGIN:DAYLIGHT
TZOFFSETFROM:-0500
TZOFFSETTO:-0400
TZNAME:EDT
DTSTART:20190310T070000
END:DAYLIGHT
BEGIN:STANDARD
TZOFFSETFROM:-0400
TZOFFSETTO:-0500
TZNAME:EST
DTSTART:20191103T060000
END:STANDARD
BEGIN:DAYLIGHT
TZOFFSETFROM:-0500
TZOFFSETTO:-0400
TZNAME:EDT
DTSTART:20200308T070000
END:DAYLIGHT
BEGIN:STANDARD
TZOFFSETFROM:-0400
TZOFFSETTO:-0500
TZNAME:EST
DTSTART:20201101T060000
END:STANDARD
BEGIN:DAYLIGHT
TZOFFSETFROM:-0500
TZOFFSETTO:-0400
TZNAME:EDT
DTSTART:20210314T070000
END:DAYLIGHT
BEGIN:STANDARD
TZOFFSETFROM:-0400
TZOFFSETTO:-0500
TZNAME:EST
DTSTART:20211107T060000
END:STANDARD
BEGIN:DAYLIGHT
TZOFFSETFROM:-0500
TZOFFSETTO:-0400
TZNAME:EDT
DTSTART:20220313T070000
END:DAYLIGHT
BEGIN:STANDARD
TZOFFSETFROM:-0400
TZOFFSETTO:-0500
TZNAME:EST
DTSTART:20221106T060000
END:STANDARD
BEGIN:DAYLIGHT
TZOFFSETFROM:-0500
TZOFFSETTO:-0400
TZNAME:EDT
DTSTART:20230312T070000
END:DAYLIGHT
BEGIN:STANDARD
TZOFFSETFROM:-0400
TZOFFSETTO:-0500
TZNAME:EST
DTSTART:20231105T060000
END:STANDARD
BEGIN:DAYLIGHT
TZOFFSETFROM:-0500
TZOFFSETTO:-0400
TZNAME:EDT
DTSTART:20240310T070000
END:DAYLIGHT
BEGIN:STANDARD
TZOFFSETFROM:-0400
TZOFFSETTO:-0500
TZNAME:EST
DTSTART:20241103T060000
END:STANDARD
BEGIN:DAYLIGHT
TZOFFSETFROM:-0500
TZOFFSETTO:-0400
TZNAME:EDT
DTSTART:20250309T070000
END:DAYLIGHT
BEGIN:STANDARD
TZOFFSETFROM:-0400
TZOFFSETTO:-0500
TZNAME:EST
DTSTART:20251102T060000
END:STANDARD
BEGIN:DAYLIGHT
TZOFFSETFROM:-0500
TZOFFSETTO:-0400
TZNAME:EDT
DTSTART:20260308T070000
END:DAYLIGHT
BEGIN:STANDARD
TZOFFSETFROM:-0400
TZOFFSETTO:-0500
TZNAME:EST
DTSTART:20261101T060000
END:STANDARD
END:VTIMEZONE
BEGIN:VTIMEZONE
TZID:America/New_York
BEGIN:DAYLIGHT
TZOFFSETFROM:-0500
TZOFFSETTO:-0400
TZNAME:EDT
DTSTART:20150308T070000
END:DAYLIGHT
BEGIN:STANDARD
TZOFFSETFROM:-0400
TZOFFSETTO:-0500
TZNAME:EST
DTSTART:20151101T060000
END:STANDARD
BEGIN:DAYLIGHT
TZOFFSETFROM:-0500
TZOFFSETTO:-0400
TZNAME:EDT
DTSTART:20160313T070000
END:DAYLIGHT
BEGIN:STANDARD
TZOFFSETFROM:-0400
TZOFFSETTO:-0500
TZNAME:EST
DTSTART:20161106T060000
END:STANDARD
BEGIN:DAYLIGHT
TZOFFSETFROM:-0500
TZOFFSETTO:-0400
TZNAME:EDT
DTSTART:20170312T070000
END:DAYLIGHT
BEGIN:STANDARD
TZOFFSETFROM:-0400
TZOFFSETTO:-0500
TZNAME:EST
DTSTART:20171105T060000
END:STANDARD
END:VTIMEZONE
BEGIN:VEVENT
DTSTART;TZID=America/New_York:20250222T190000
DTEND;TZID=America/New_York:20250223T000000
DTSTAMP:20260421T120915
CREATED:20250211T165221Z
LAST-MODIFIED:20250211T165221Z
UID:10000229-1740250800-1740268800@www.rocklandcountyaoh.com
SUMMARY:Rockland County Emerald Ball
DESCRIPTION:
URL:https://www.rocklandcountyaoh.com/event/rockland-county-emerald-ball/
LOCATION:Pearl River Hilton\, 500 Veterans Memorial Drive\, Pearl River\, NY\, United States
END:VEVENT
BEGIN:VEVENT
DTSTART;TZID=America/New_York:20240224T190000
DTEND;TZID=America/New_York:20240224T233000
DTSTAMP:20260421T120915
CREATED:20240113T161327Z
LAST-MODIFIED:20240115T151154Z
UID:10000098-1708801200-1708817400@www.rocklandcountyaoh.com
SUMMARY:Rockland County Emerald Ball 2024
DESCRIPTION:Each year the start of the St. Patrick’s Day season begins with the Rockland County Emerald Ball and once again\, the Rockland County Men’s and Ladies’ Ancient Order of Hibernians invite you to support this special event. The Emerald Ball is a night to celebrate our Irish heritage with great friends\, food\, music\, and also serves as the primary fundraiser for the Annual Rockland County St. Patrick’s Day Parade. We hope you will join us at this year’s Ball on Saturday\, February 24\, 2024 at the Pearl River Hilton at 7 P.M. As always\, we will honor individuals who distinguish themselves through their actions and personify our motto of “Friendship\, Unity & Christian Charity.” As such\, we are proud to announce the 2024 honorees: \n\nHibernian of the Year\, Terry McGeever\nBusinesspersons of the Year\, Ryan & Courtney Traynor\, All Boro Flooring\nParade Commander\, Sergeant Nick Whalen\, Orangetown Police Dept.\, USMC\nGrand Marshal\, Neil Cosgrove\nAide to the Grand Marshal\, NYC\, Sean Michael Walsh
URL:https://www.rocklandcountyaoh.com/event/rockland-county-emerald-ball-2024/
LOCATION:Pearl River Hilton\, 500 Veterans Memorial Drive\, Pearl River\, NY\, United States
CATEGORIES:Featured
END:VEVENT
BEGIN:VEVENT
DTSTART;TZID=America/New_York:20230319T103000
DTEND;TZID=America/New_York:20230319T103000
DTSTAMP:20260421T120915
CREATED:20230307T013049Z
LAST-MODIFIED:20230308T214916Z
UID:10000095-1679221800-1679221800@www.rocklandcountyaoh.com
SUMMARY:2023 Parade Breakfast
DESCRIPTION:The Rockland County AOH cordially invites you to the 2023 St. Patrick’s Day Parade Mass at Our Lady of the Sacred Heart Church\, 120 Kings Highway\, Tappan\, N.Y. on Sunday\, March 19\, 2023 at 9:15 a.m.  Please note the time and venue change for the Mass.  Immediately following the mass\, a breakfast will be held at the Pearl River Hilton in Pearl River\, N.Y. honoring the Grand Marshal Thomas Leavey and his aides.   Tickets are 40 per person. \nFor further information regarding the breakfast\, please contact Mary Mulcahy at 914-450-0382. \nMay the Peace of St. Patrick be with you! \n 
URL:https://www.rocklandcountyaoh.com/event/2023-parade-breakfast/
LOCATION:Pearl River Hilton\, 500 Veterans Memorial Drive\, Pearl River\, NY\, United States
CATEGORIES:Featured
END:VEVENT
BEGIN:VEVENT
DTSTART;TZID=America/New_York:20230225T190000
DTEND;TZID=America/New_York:20230225T233000
DTSTAMP:20260421T120915
CREATED:20230113T165333Z
LAST-MODIFIED:20240113T155651Z
UID:10000094-1677351600-1677367800@www.rocklandcountyaoh.com
SUMMARY:Rockland County Emerald Ball 2023
DESCRIPTION:Dear Friends\, \nEach year the start of the St. Patrick’s Day season begins with the Rockland County Emerald Ball and once again\, the Rockland County Men’s and Ladies’ Ancient Order of Hibernians invite you to support this special event. The Emerald Ball is a night to celebrate our Irish heritage with great friends\, food\, music and also serves as the primary fundraiser for the Annual Rockland County St. Patrick’s Day Parade. We hope you will join us at this year’s Ball on Saturday\, February 25\, 2023 at the Pearl River Hilton at 7 p.m. As always\, we will honor individuals who distinguish themselves through their actions and personify our motto of “Friendship\, Unity & Christian Charity.” As such\, we are proud to announce the 2023 honorees: \n\nHibernian of the Year\, Laurence DeGennaro\nBusinessperson of the Year\, Breda Lyons & Catherine Levins\, River Court on Main\nParade Commander\, Sheriff Louis Falco\nGrand Marshal\, Thomas Leavey\nAide to the Grand Marshal\, NYC\, Dennis Toal\n\n  \nThere are a variety of ways that you can support this year’s event including attending the Emerald Ball\, sponsoring a journal ad\, or making a direct donation. Details for purchasing tickets and journal ads or making a direct donation can be found below. Thank you in advance for supporting the 59th Annual Rockland County AOH St. Patrick’s Day Parade! \nSincerely\, \n\n\n\nJohn McGowan\nPresident\, Rockland Co. AOH\n\nLoretta Reidy\nPresident\, Rockland Co. LAOH
URL:https://www.rocklandcountyaoh.com/event/rockland-county-emerald-ball-2023/
LOCATION:Pearl River Hilton\, 500 Veterans Memorial Drive\, Pearl River\, NY\, United States
CATEGORIES:Past Event
ATTACH;FMTTYPE=image/png:https://www.rocklandcountyaoh.com/wp-content/uploads/2023/01/Parade-59-HiRes.png
END:VEVENT
BEGIN:VEVENT
DTSTART;TZID=America/New_York:20220225T190000
DTEND;TZID=America/New_York:20220225T190000
DTSTAMP:20260421T120915
CREATED:20220112T015111Z
LAST-MODIFIED:20230113T163329Z
UID:10000065-1645815600-1645815600@www.rocklandcountyaoh.com
SUMMARY:2023 Emerald Ball\, February 25\,2023
DESCRIPTION:Dear Friends\,\nEach year the start of the St. Patrick’s Day season begins with the Rockland County Emerald Ball and once again\, the Rockland County Men’s and Ladies’ Ancient Order of Hibernians invite you to support this special event. The Emerald Ball is a night to celebrate our Irish heritage with great friends\, food\, music and also serves as the primary fundraiser for the Annual Rockland County St. Patrick’s Day Parade. We hope you will join us at this year’s Ball on Saturday\, February 25\, 2023 at the Pearl River Hilton at 7 p.m. As always\, we will honor individuals who distinguish themselves through their actions and personify our motto of “Friendship\, Unity & Christian Charity.” As such\, we are proud to announce the 2023 honorees: \n\nHibernian of the Year\, Laurence DeGennaro\nBusinessperson of the Year\, Breda Lyons & Catherine Levins\, River Court on Main\nParade Commander\, Sheriff Louis Falco\nGrand Marshal\, Thomas Leavey\nAide to the Grand Marshal\, NYC\, Dennis Toal\n\n  \nThere are a variety of ways that you can support this year’s event including attending the Emerald Ball\, sponsoring a journal ad\, or making a direct donation. Details for purchasing tickets and journal ads or making a direct donation can be found below. Thank you in advance for supporting the 59th Annual Rockland County AOH St. Patrick’s Day Parade! \nSincerely\, \n\n\n\nJohn McGowan\nPresident\, Rockland Co. AOH\n\nLoretta Reidy\nPresident\, Rockland Co. LAOH
URL:https://www.rocklandcountyaoh.com/event/2022-emerald-ball/
LOCATION:Pearl River Hilton\, 500 Veterans Memorial Drive\, Pearl River\, NY\, United States
CATEGORIES:Featured
ATTACH;FMTTYPE=image/png:https://www.rocklandcountyaoh.com/wp-content/uploads/2022/01/pngwing.com_.png
END:VEVENT
BEGIN:VEVENT
DTSTART;TZID=America/New_York:20190317T090000
DTEND;TZID=America/New_York:20190317T120000
DTSTAMP:20260421T120915
CREATED:20190130T214152Z
LAST-MODIFIED:20190302T225942Z
UID:10000014-1552813200-1552824000@www.rocklandcountyaoh.com
SUMMARY:Rockland County Parade Day Mass and Breakfast
DESCRIPTION:The Rockland County AOH cordially invites you to the 2019 St. Patrick’s Day Parade Mass at Dominican Convent\, 175 Route 340\, Sparkill\, N.Y. on Sunday\, March 17\, 2019\, at 9:00 a.m. The convent is located across the street from Camp Venture. Immediately following the mass\, a breakfast will be held at the Pearl River Hilton in Pearl River\, N.Y. honoring the Grand Marshal Joan Moore and her aides. \nTickets for the Breakfast may be purchased below.  Alternatively\, you may mail your reservation and a check for $ 35 per person (Children under 7 free) (All Checks should be made payable to RCAOH) to Rockland County AOH Emerald Ball Committee\, PO Box 182\, Pearl River\, NY 10965. Due to limited seating arrangements\, breakfast reservations will not be accepted at the door! NO EXCEPTIONS WILL BE MADE!!!!!  \nI hope that you will make this a memorable event for Joan Moore and her aides. \nIf you have any questions\, please do not hesitate to contact me\, John McGowan\, at (845) 548-4416
URL:https://www.rocklandcountyaoh.com/event/rockland-county-parade-day-mass-and-breakfast/
LOCATION:Pearl River Hilton\, 500 Veterans Memorial Drive\, Pearl River\, NY\, United States
CATEGORIES:Featured
ATTACH;FMTTYPE=image/jpeg:https://www.rocklandcountyaoh.com/wp-content/uploads/2019/01/Saint_Patrick_Catholic_Church_Junction_City_Ohio_-_stained_glass_Saint_Patrick_-_detail.jpg
END:VEVENT
BEGIN:VEVENT
DTSTART;TZID=America/New_York:20180318T100000
DTEND;TZID=America/New_York:20180318T120000
DTSTAMP:20260421T120915
CREATED:20180205T040837Z
LAST-MODIFIED:20180313T225422Z
UID:10000005-1521367200-1521374400@www.rocklandcountyaoh.com
SUMMARY:Rockland County Parade Day Mass and Breakfast
DESCRIPTION:The Rockland County AOH cordially invites you to the 2018 St. Patrick’s Day Parade Mass at Dominican Convent\, 175 Route 340\, Sparkill\, N.Y. on Sunday\, March 18\, 2018\, at 9:00 a.m. The convent is located across the street from Camp Venture. Immediately following the mass\, a breakfast will be held at the Pearl River Hilton in Pearl River\, N.Y. honoring the Grand Marshal Emmett Woods and his aides. \nTickets may be purchased below.  Alternatively\, you may mail your reservation and a check for $ 35 per person (Children under 7 free) (All Checks should be made payable to RCAOH) toRockland County AOH Emerald Ball Committee\, PO Box 182\, Pearl River\, NY 10965 by March 15\, 2018. Due to limited seating arrangements\, breakfast reservations will not be accepted at the door! NO EXCEPTIONS WILL BE MADE!!!!!  \nI hope that you will make this a memorable event for Emmett Woods and his aides. \nIf you have any questions\, please do not hesitate to contact me\, John McGowan\, at (845) 548-4416\n  \n 
URL:https://www.rocklandcountyaoh.com/event/rockland-county-parade-day-mass-breakfast/
LOCATION:Pearl River Hilton\, 500 Veterans Memorial Drive\, Pearl River\, NY\, United States
ATTACH;FMTTYPE=image/png:https://www.rocklandcountyaoh.com/wp-content/uploads/2017/12/Parade-56-HiRes.png
END:VEVENT
BEGIN:VEVENT
DTSTART;TZID=America/New_York:20170319T100000
DTEND;TZID=America/New_York:20170319T120000
DTSTAMP:20260421T120915
CREATED:20170304T191109Z
LAST-MODIFIED:20170317T194109Z
UID:10000031-1489917600-1489924800@www.rocklandcountyaoh.com
SUMMARY:2017 Rockland County St. Patrick's Day Parade Breakfast
DESCRIPTION:The Rockland County AOH cordially invites you to the 2017 St. Patrick’s Day Parade Mass at Dominican Convent\, 175 Route 340\, Sparkill\, N.Y. on Sunday\, March 19\, 2017 at 9:00 a.m. The convent is located across the street from Camp Venture. Immediately following the mass\, a breakfast will be held at the Pearl River Hilton in Pearl River\, N.Y. honoring the Grand Marshal Carmel Reilly and her aides. \nTickets may be purchased below.  Alternatively you may mail your reservation and a check for $ 35 per person (Children under 7 free) (All Checks should be made payable to RCAOH) to Jim Russell\, Parade Mass & Breakfast Chairman\, 219 North Middletown Road\, Unit E\, Pearl River\, N.Y. 10965 by March 16\, 2017. Additionally\, you can also pay by Paypal by visiting our website: www.rocklandcountyaoh.com and following the prompts. Due to limited seating arrangements\, breakfast reservations will not be accepted at the door! NO EXCEPTIONS WILL BE MADE!!!!!  \nI hope that you will make this a memorable event for Carmel Reilly and her aides. \nIf you have any questions\, please do not hesitate to contact me at 845-300-2930 or russe340@aol.com.
URL:https://www.rocklandcountyaoh.com/event/2017-rockland-county-st-patricks-day-parade-breakfast/
LOCATION:Pearl River Hilton\, 500 Veterans Memorial Drive\, Pearl River\, NY\, United States
CATEGORIES:News
END:VEVENT
BEGIN:VEVENT
DTSTART;TZID=America/New_York:20170225T190000
DTEND;TZID=America/New_York:20170225T235500
DTSTAMP:20260421T120916
CREATED:20160827T171237Z
LAST-MODIFIED:20170211T161430Z
UID:10000062-1488049200-1488066900@www.rocklandcountyaoh.com
SUMMARY:Rockland County AOH Emerald Ball
DESCRIPTION:The premier event of the Saint Patrick’s Day season\, other than the parade itself\, is the Rockland County Ancient Order of Hibernians Emerald Bail. This year the ball will be held on Saturday\, February 25\, 2017 at the Pearl River Hilton\, located at 500 Veterans Memorial Drive\, Pearl River\, NY 10965. The telephone number for the hotel is 845-735-9000\, mention the RCAOH Emerald Ball to receive a special room rate when you book your room. The special room rate expires on Saturday\, February 4th\, 2017. \nOur 2017 honorees are: \n\n\n\nHibernian of the Year\n Thomas P. Zugibe\n\n\nBusinesswomen of the Year\n  Kay & Michelle O’Grady \n\n\nGrand Marshal\n Carmel Reilly\n\n\nAide to the Grand Marshal\n  Helen Kilgallen Murphy\n\n\nNYC Parade Commander\n Michael Shannon\, Orangetown P.D.\n\n\n\nThe cost of the Emerald Ball is $125.00. Tickets and Journal Ads may be purchased by scrolling to the bottom of this page. You may also mail your check and ad to PO Box 182\, Pearl River\, NY 10965. Should you have any questions\, please send an email to RocklandCountyHibernians@Gmail.com. \nWe thank you in advance for supporting the 2017 Rockland County Saint Patrick’s Day Parade\, which will be held on Sunday\, the 19th of March\, 2017. We look forward to seeing you on the avenue \nSincerely\, \nJames Russell\, RCAOH\, President\nLillian Murphy\, RCLAOH\, President
URL:https://www.rocklandcountyaoh.com/event/rockland-county-aoh-emerald-ball/
LOCATION:Pearl River Hilton\, 500 Veterans Memorial Drive\, Pearl River\, NY\, United States
END:VEVENT
BEGIN:VEVENT
DTSTART;TZID=America/New_York:20160320T100000
DTEND;TZID=America/New_York:20160320T120000
DTSTAMP:20260421T120916
CREATED:20160301T103248Z
LAST-MODIFIED:20160309T152112Z
UID:10000027-1458468000-1458475200@www.rocklandcountyaoh.com
SUMMARY:Rockland County St. Patrick's Parade Mass and Breakfast
DESCRIPTION:The Rockland County AOH cordially invites you to the 2016 St. Patrick’s Day Parade Mass at Dominican Convent\, 175 Route 340\, Sparkill\, N.Y. on Sunday\, March 20\, 2016 at 9:00 a.m. The convent is located across the street from Camp Venture. \nImmediately following the mass\, a breakfast will be held at the Pearl River Hilton in Pearl River\, N.Y. honoring the Grand Marshal Dermot O’Connor Moore and his aides. This year\, we will have a special guest speaker attending the breakfast\, Dr. Ruan O’Donnell\, noted historian from the University of Limerick who will be speaking about the 1916 Easter Rising! \nBreakfast is $35 per person (Children under 7 free). Tickets may be purchase below through Paypal using Paypal or any major credit card. Checks\, made payable to RCAOH\, can also be mailed by March 16\, 2016 to \nJim Russell\, Parade Mass & Breakfast Chairman\,\n219 North Middletown Road\, Unit E\,\nPearl River\, N.Y. 10965 \nDue to limited seating arrangements\, breakfast reservations will not be accepted at the door! NO EXCEPTIONS WILL BE MADE!!!!! \nWe hope that you will make this a memorable event for Dermot Moore and his aides.\nIf you have any questions\, please do not hesitate to contact Jim at 845-300-2930 or russe340@aol.com.
URL:https://www.rocklandcountyaoh.com/event/rockland-county-st-patricks-parade-mass-and-breakfast/
LOCATION:Pearl River Hilton\, 500 Veterans Memorial Drive\, Pearl River\, NY\, United States
CATEGORIES:News
END:VEVENT
BEGIN:VEVENT
DTSTART;TZID=America/New_York:20160227T190000
DTEND;TZID=America/New_York:20160228T000000
DTSTAMP:20260421T120916
CREATED:20160103T013243Z
LAST-MODIFIED:20160226T172854Z
UID:10000038-1456599600-1456617600@www.rocklandcountyaoh.com
SUMMARY:Rockland County AOH 2016 Emerald Ball
DESCRIPTION:The premier event of the Saint Patrick’s Day season\, other than the parade itself is the Rockland County Ancient Order of Hibernians Emerald Ball. This year the ball will be held on February 27\, 2016 at the Pearl River Hilton\, located at 500 Veterans Memorial Drive\, Pearl River\, NY 10965. The telephone number for the hotel is 845-735-9000\, mention the RCAOH Emerald Ball to receive a special room rate when you book your room. Our 2016 honorees are: \n\nHibernian of the Year Neil Cosgrove\nBusinesswoman of the Year Margie Mulvihill\nRockland County Parade Grand Marshal Dermot O’Connor Moore\nAide to the Grand Marshal NYC Kevin Donohue\nParade Commander Cyril P. Kerr\, RC DA’s Office\n\nThe cost of the Emerald Ball is $125.00. Please visit our website www.RocklandCountyAOH.com to facilitate your giving/going to the Emerald Ball\, St. Patrick’s Day Breakfast or to purchase an ad in our 1916 Commemorative Journal. You may also mail your check and ad to our PO Box 182\, Pearl River\, NY 10965. Should you have any questions please send an email to RocklandCountyHibernians@Gmail.com. We thank you in advance for supporting the 2016 Rockland County Saint Patrick’s Day Parade\, which will be held on Sunday\, the 20th of March\, 2016. We look forward to seeing you on the avenue.
URL:https://www.rocklandcountyaoh.com/event/rockland-county-aoh-2016-emerald-ball/
LOCATION:Pearl River Hilton\, 500 Veterans Memorial Drive\, Pearl River\, NY\, United States
END:VEVENT
BEGIN:VEVENT
DTSTART;TZID=America/New_York:20130317T100000
DTEND;TZID=America/New_York:20130317T120000
DTSTAMP:20260421T120916
CREATED:20130310T140714Z
LAST-MODIFIED:20130310T141123Z
UID:10000052-1363514400-1363521600@www.rocklandcountyaoh.com
SUMMARY:St. Patrick's Day Parade Breakfast
DESCRIPTION:Immediately following the Parade mass\, a breakfast will be held at the Pearl River Hilton in Pearl River\, N.Y. honoring the Grand Marshal Rev. Msgr. Edward J. Weber and his aides. \nPlease mail your reservation indicating the number of people  and a check for $ 30 per person (Children under 7 free) (All Checks should be made payable to RCAOH) to: \nJim Russell\, Parade Mass & Breakfast Chairman 219 North Middletown Road\, Unit E\, Pearl River\, N.Y. 10965 by March 14\, 2013. \nDue to limited seating arrangements\, breakfast reservations will not be accepted at the door!  NO EXCEPTIONS WILL BE MADE!!!!!  \nI look forward to greeting you on March 17th! \nSincerely\, \nJames Russell\, 2013 Parade Mass and Breakfast Chairman
URL:https://www.rocklandcountyaoh.com/event/st-patricks-day-parade-breakfast/
LOCATION:Pearl River Hilton\, 500 Veterans Memorial Drive\, Pearl River\, NY\, United States
END:VEVENT
END:VCALENDAR